BEGIN:VCALENDAR
VERSION:2.0
PRODID:-//jEvents 2.0 for Joomla//EN
CALSCALE:GREGORIAN
METHOD:PUBLISH
BEGIN:VEVENT
UID:beab3c21fa3a01ffb537a903a9fb7031
CATEGORIES:Ham Radio Events
CREATED:20230702T031257
SUMMARY:Kansas QSO Party
DESCRIPTION:https://ksqsoparty.org/\n \n \n
X-ALT-DESC;FMTTYPE=text/html:<p>https://ksqsoparty.org/</p><p> </p><p> </p>
DTSTAMP:20260421T001827
DTSTART;TZID=America/Phoenix:20230826T140000
DTEND;TZID=America/Phoenix:20230827T020000
SEQUENCE:0
TRANSP:OPAQUE
END:VEVENT
END:VCALENDAR