BEGIN:VCALENDAR
VERSION:2.0
PRODID:-//jEvents 2.0 for Joomla//EN
CALSCALE:GREGORIAN
METHOD:PUBLISH
BEGIN:VEVENT
UID:cbbeb45658e9ca142f6157a2217786a6
CATEGORIES:Ham Radio Events
CREATED:20230702T031514
SUMMARY:Hawaii QSO Party
DESCRIPTION:https://www.hawaiiqsoparty.org/\n\n \n
X-ALT-DESC;FMTTYPE=text/html:<p>https://www.hawaiiqsoparty.org/</p><p></p><p> </p>
DTSTAMP:20260421T001827
DTSTART;TZID=America/Phoenix:20230826T110000
DTEND;TZID=America/Phoenix:20230828T105900
SEQUENCE:0
TRANSP:OPAQUE
END:VEVENT
END:VCALENDAR