BEGIN:VCALENDAR
VERSION:2.0
PRODID:-//jEvents 2.0 for Joomla//EN
CALSCALE:GREGORIAN
METHOD:PUBLISH
BEGIN:VEVENT
UID:4e4a07f9c3659f78d88f8a1dd1512935
CATEGORIES:Ham Radio Events
CREATED:20230702T031818
SUMMARY:Alabama QSO Party
DESCRIPTION:https://alabamacontestgroup.org/aqp/\n\n \n
X-ALT-DESC;FMTTYPE=text/html:<p>https://alabamacontestgroup.org/aqp/</p><p></p><p> </p>
DTSTAMP:20260421T022348
DTSTART;TZID=America/Phoenix:20230909T150000
DTEND;TZID=America/Phoenix:20230910T030000
SEQUENCE:0
TRANSP:OPAQUE
END:VEVENT
END:VCALENDAR