BEGIN:VCALENDAR
VERSION:2.0
PRODID:-//jEvents 2.0 for Joomla//EN
CALSCALE:GREGORIAN
METHOD:PUBLISH
BEGIN:VEVENT
UID:fd754a04709bed1cd4c4802bc0b8d0ff
CATEGORIES:Ham Radio Events
CREATED:20230702T031928
SUMMARY:Texas QSO Party
DESCRIPTION:https://www.txqp.net/index.php\n\n \n
X-ALT-DESC;FMTTYPE=text/html:<p>https://www.txqp.net/index.php</p><p></p><p> </p>
DTSTAMP:20260421T022348
DTSTART;TZID=America/Phoenix:20230916T140000
DTEND;TZID=America/Phoenix:20230917T020000
SEQUENCE:0
TRANSP:OPAQUE
END:VEVENT
END:VCALENDAR