BEGIN:VCALENDAR
VERSION:2.0
PRODID:-//jEvents 2.0 for Joomla//EN
CALSCALE:GREGORIAN
METHOD:PUBLISH
BEGIN:VEVENT
UID:3edc967d0d521d7ff7d4fc77d71e5120
CATEGORIES:Ham Radio Events
CREATED:20230702T031958
SUMMARY:Texas QSO Party
DESCRIPTION:https://www.txqp.net/index.php\n \n \n
X-ALT-DESC;FMTTYPE=text/html:<p>https://www.txqp.net/index.php</p><p> </p><p> </p>
DTSTAMP:20260421T021519
DTSTART;TZID=America/Phoenix:20230917T140000
DTEND;TZID=America/Phoenix:20230917T200000
SEQUENCE:0
TRANSP:OPAQUE
END:VEVENT
END:VCALENDAR