BEGIN:VCALENDAR
VERSION:2.0
PRODID:-//jEvents 2.0 for Joomla//EN
CALSCALE:GREGORIAN
METHOD:PUBLISH
BEGIN:VEVENT
UID:52ccd0e07aff2b5d6d2071c44d636b37
CATEGORIES:Ham Radio Events
CREATED:20230702T002159
SUMMARY:13 Colonies Special Event
DESCRIPTION:<p><a href="http://www.13colonies.us/" target="_blank" rel="noopener">http:
 //www.13colonies.us/</a></p>
DTSTAMP:20260420T195143
DTSTART;TZID=America/Phoenix:20230701T130000
DTEND;TZID=America/Phoenix:20230708T040000
SEQUENCE:0
TRANSP:OPAQUE
END:VEVENT
END:VCALENDAR