BEGIN:VCALENDAR
VERSION:2.0
PRODID:-//jEvents 2.0 for Joomla//EN
CALSCALE:GREGORIAN
METHOD:PUBLISH
BEGIN:VEVENT
UID:48c434d13ff3516a8a822a80370dba39
CATEGORIES:Ham Radio Events
CREATED:20230702T032216
SUMMARY:ARRL September VHF Contest
DESCRIPTION:https://www.arrl.org/september-vhf (https://www.arrl.org/september-vhf)\n
X-ALT-DESC;FMTTYPE=text/html:<p><a href="https://www.arrl.org/september-vhf" target="_blank" rel="noopen
 er">https://www.arrl.org/september-vhf</a></p>
DTSTAMP:20260421T022251
DTSTART;TZID=America/Phoenix:20230916T180000
DTEND;TZID=America/Phoenix:20230917T025900
SEQUENCE:0
TRANSP:OPAQUE
END:VEVENT
END:VCALENDAR