BEGIN:VCALENDAR
VERSION:2.0
PRODID:-//jEvents 2.0 for Joomla//EN
CALSCALE:GREGORIAN
METHOD:PUBLISH
BEGIN:VEVENT
UID:c4fe377aa7c92d595eb7b17c4ab79106
CATEGORIES:Ham Radio Events
CREATED:20230702T032313
SUMMARY:ARRL 10GHz & Up Contest - Leg 2
DESCRIPTION:http://www.arrl.org/10-ghz-up\n
X-ALT-DESC;FMTTYPE=text/html:<p><a href="http://www.arrl.org/10-ghz-up" target="_blank" rel="noopener">h
 ttp://www.arrl.org/10-ghz-up</a></p>
DTSTAMP:20260421T021519
DTSTART;TZID=America/Phoenix:20230916T130000
DTEND;TZID=America/Phoenix:20230918T065900
SEQUENCE:0
TRANSP:OPAQUE
END:VEVENT
END:VCALENDAR