BEGIN:VCALENDAR
VERSION:2.0
PRODID:-//jEvents 2.0 for Joomla//EN
CALSCALE:GREGORIAN
METHOD:PUBLISH
BEGIN:VEVENT
UID:e643aaa40fb038c6e3eed9bed922a39f
CATEGORIES:Ham Radio Events
CREATED:20230702T032502
SUMMARY:ARRL School Club Roundup
DESCRIPTION:<p><a href="https://www.arrl.org/school-club-roundup" target="_blank" rel="
 noopener">https://www.arrl.org/school-club-roundup</a></p>
DTSTAMP:20260421T044242
DTSTART;TZID=America/Phoenix:20231016T130000
DTEND;TZID=America/Phoenix:20231020T235900
SEQUENCE:0
TRANSP:OPAQUE
END:VEVENT
END:VCALENDAR