BEGIN:VCALENDAR
VERSION:2.0
PRODID:-//jEvents 2.0 for Joomla//EN
CALSCALE:GREGORIAN
METHOD:PUBLISH
BEGIN:VEVENT
UID:02192114fdafa9dc03a5bed477cc39ad
CATEGORIES:Ham Radio Events
CREATED:20230702T032557
SUMMARY:ARRL November Sweepstakes - CW
DESCRIPTION:http://www.arrl.org/sweepstakes (http://www.arrl.org/sweepstakes)\n
X-ALT-DESC;FMTTYPE=text/html:<p><a href="http://www.arrl.org/sweepstakes" target="_blank" rel="noopener"
 >http://www.arrl.org/sweepstakes</a></p>
DTSTAMP:20260420T213857
DTSTART;TZID=America/Phoenix:20231104T210000
DTEND;TZID=America/Phoenix:20231106T025900
SEQUENCE:0
TRANSP:OPAQUE
END:VEVENT
END:VCALENDAR