BEGIN:VCALENDAR
VERSION:2.0
PRODID:-//jEvents 2.0 for Joomla//EN
CALSCALE:GREGORIAN
METHOD:PUBLISH
BEGIN:VEVENT
UID:cc8d718d8b79ea66f3ee17ea0362f343
CATEGORIES:Ham Radio Events
CREATED:20230702T052018
SUMMARY:ARRL 160 Meter Contest
DESCRIPTION:http://www.arrl.org/160-meter\n\n \n
X-ALT-DESC;FMTTYPE=text/html:<p>http://www.arrl.org/160-meter</p><p></p><p> </p>
DTSTAMP:20260420T194028
DTSTART;TZID=America/Phoenix:20231201T220000
DTEND;TZID=America/Phoenix:20231203T155900
SEQUENCE:0
TRANSP:OPAQUE
END:VEVENT
END:VCALENDAR