BEGIN:VCALENDAR
VERSION:2.0
PRODID:-//jEvents 2.0 for Joomla//EN
CALSCALE:GREGORIAN
METHOD:PUBLISH
BEGIN:VEVENT
UID:9865e5069339bd1aa625f3422201c3f8
CATEGORIES:Ham Radio Events
CREATED:20230702T052113
SUMMARY:ARRL 10 Meter Contest
DESCRIPTION:http://www.arrl.org/10-meter\n\n \n
X-ALT-DESC;FMTTYPE=text/html:<p>http://www.arrl.org/10-meter</p><p></p><p> </p>
DTSTAMP:20260420T194027
DTSTART;TZID=America/Phoenix:20231202T000000
DTEND;TZID=America/Phoenix:20231203T235900
SEQUENCE:0
TRANSP:OPAQUE
END:VEVENT
END:VCALENDAR