BEGIN:VCALENDAR
VERSION:2.0
PRODID:-//jEvents 2.0 for Joomla//EN
CALSCALE:GREGORIAN
METHOD:PUBLISH
BEGIN:VEVENT
UID:e25253628f3905454eac0273699c1b10
CATEGORIES:Ham Radio Events
CREATED:20230702T052205
SUMMARY:ARRL Rookie Roundup
DESCRIPTION:http://www.arrl.org/rookie-roundup\n\n \n
X-ALT-DESC;FMTTYPE=text/html:<p>http://www.arrl.org/rookie-roundup</p><p></p><p> </p>
DTSTAMP:20260420T193857
DTSTART;TZID=America/Phoenix:20231217T180000
DTEND;TZID=America/Phoenix:20231217T235900
SEQUENCE:0
TRANSP:OPAQUE
END:VEVENT
END:VCALENDAR