BEGIN:VCALENDAR
VERSION:2.0
PRODID:-//jEvents 2.0 for Joomla//EN
CALSCALE:GREGORIAN
METHOD:PUBLISH
BEGIN:VEVENT
UID:63282504e387227e8226516de184e235
CATEGORIES:Ham Radio Events
CREATED:20230702T002315
SUMMARY:IARU HF World Championships
DESCRIPTION:https://www.arrl.org/iaru-hf-world-championship (https://www.arrl.org/iaru-
 hf-world-championship)\n
X-ALT-DESC;FMTTYPE=text/html:<p><a href="https://www.arrl.org/iaru-hf-world-championship" target="_blank
 " rel="noopener">https://www.arrl.org/iaru-hf-world-championship</a></p>
DTSTAMP:20260420T194355
DTSTART;TZID=America/Phoenix:20230708T120000
DTEND;TZID=America/Phoenix:20230709T115900
SEQUENCE:0
TRANSP:OPAQUE
END:VEVENT
END:VCALENDAR