BEGIN:VCALENDAR
VERSION:2.0
PRODID:-//jEvents 2.0 for Joomla//EN
CALSCALE:GREGORIAN
METHOD:PUBLISH
BEGIN:VEVENT
UID:43f1b34ab87fdfcc244ee1c9d8050d9a
CATEGORIES:Ham Radio Events
CREATED:20230805T175243
SUMMARY:222MHz and Up Distance Contest
DESCRIPTION:<p>https://arrl.org/222-mhz-and-up-distance-contest</p>
DTSTAMP:20260420T194818
DTSTART;TZID=America/Phoenix:20230805T180000
DTEND;TZID=America/Phoenix:20230806T175900
SEQUENCE:0
TRANSP:OPAQUE
END:VEVENT
END:VCALENDAR