BEGIN:VCALENDAR
VERSION:2.0
PRODID:-//jEvents 2.0 for Joomla//EN
CALSCALE:GREGORIAN
METHOD:PUBLISH
BEGIN:VEVENT
UID:ced5b6b22a64bfb52f4903454a8f5181
CATEGORIES:Ham Radio Events
CREATED:20230805T183131
SUMMARY:North American QSO Party - CW
DESCRIPTION:https://www.ncjweb.com/NAQP-Rules.pdf\n
X-ALT-DESC;FMTTYPE=text/html:<p>https://www.ncjweb.com/NAQP-Rules.pdf</p>
DTSTAMP:20260420T195154
DTSTART;TZID=America/Phoenix:20230805T055900
DTEND;TZID=America/Phoenix:20230806T055900
SEQUENCE:0
TRANSP:OPAQUE
END:VEVENT
END:VCALENDAR