BEGIN:VCALENDAR
VERSION:2.0
PRODID:-//jEvents 2.0 for Joomla//EN
CALSCALE:GREGORIAN
METHOD:PUBLISH
BEGIN:VEVENT
UID:0227e2c9655d9e3ad83eaab7acfd25eb
CATEGORIES:Ham Radio Events
CREATED:20230805T183339
SUMMARY:10-10 Int. Summer Contest, SSB
DESCRIPTION:<p>http://www.ten-ten.org/index.php/activity/2013-07-22-20-26-48/qso-party-
 rules</p>
DTSTAMP:20260420T194210
DTSTART;TZID=America/Phoenix:20230805T000100
DTEND;TZID=America/Phoenix:20230806T235900
SEQUENCE:0
TRANSP:OPAQUE
END:VEVENT
END:VCALENDAR