BEGIN:VCALENDAR
VERSION:2.0
PRODID:-//jEvents 2.0 for Joomla//EN
CALSCALE:GREGORIAN
METHOD:PUBLISH
BEGIN:VEVENT
UID:ddf1e697ef4742784d44cdbc0dd077dd
CATEGORIES:Ham Radio Events
CREATED:20230805T183503
SUMMARY:Batavia FT8 Contest
DESCRIPTION:https://batavia-ft8.com/\n
X-ALT-DESC;FMTTYPE=text/html:<p style="text-align: left;">https://batavia-ft8.com/</p>
DTSTAMP:20260420T194001
DTSTART;TZID=America/Phoenix:20230805T000000
DTEND;TZID=America/Phoenix:20230806T235900
SEQUENCE:0
TRANSP:OPAQUE
END:VEVENT
END:VCALENDAR