BEGIN:VCALENDAR
VERSION:2.0
PRODID:-//jEvents 2.0 for Joomla//EN
CALSCALE:GREGORIAN
METHOD:PUBLISH
BEGIN:VEVENT
UID:0435a154cf2f13f8f1a33b6ed5bab859
CATEGORIES:Ham Radio Events
CREATED:20230805T184429
SUMMARY:VHF-UHF FT8 Activity Contest
DESCRIPTION:http://www.ft8activity.eu/index.php/en/\n
X-ALT-DESC;FMTTYPE=text/html:<p>http://www.ft8activity.eu/index.php/en/</p>
DTSTAMP:20260420T210157
DTSTART;TZID=America/Phoenix:20230809T170000
DTEND;TZID=America/Phoenix:20230809T210000
SEQUENCE:0
TRANSP:OPAQUE
END:VEVENT
END:VCALENDAR