BEGIN:VCALENDAR
VERSION:2.0
PRODID:-//jEvents 2.0 for Joomla//EN
CALSCALE:GREGORIAN
METHOD:PUBLISH
BEGIN:VEVENT
UID:5614a189ae2f617ef4666b5f2ac76540
CATEGORIES:Ham Radio Events
CREATED:20231012T220233
SUMMARY:Solar Eclipse QSO Party
DESCRIPTION:<p>https://hamsci.org/seqp-rules#:~:text=The%20Solar%20Eclipse%20QSO%20Part
 y,RBN%20nodes%20and%20the%20like.</p>
DTSTAMP:20260421T033803
DTSTART;TZID=America/Phoenix:20231014T120000
DTEND;TZID=America/Phoenix:20231014T220000
SEQUENCE:0
TRANSP:OPAQUE
END:VEVENT
END:VCALENDAR