BEGIN:VCALENDAR
VERSION:2.0
PRODID:-//jEvents 2.0 for Joomla//EN
CALSCALE:GREGORIAN
METHOD:PUBLISH
BEGIN:VEVENT
UID:7fa8dc829f11fe876f85c50a01f29cd0
CATEGORIES:Ham Radio Events
CREATED:20231104T200315
SUMMARY:Superstition Superfest
LOCATION:Mesa Community College\, 1833 W Southern Avenue\, Mesa\, AZ
DESCRIPTION:https://superfest.superstitionarc.org/\n
X-ALT-DESC;FMTTYPE=text/html:<p>https://superfest.superstitionarc.org/</p>
DTSTAMP:20260420T194052
DTSTART;TZID=America/Phoenix:20231202T140000
DTEND;TZID=America/Phoenix:20231202T210000
SEQUENCE:0
TRANSP:OPAQUE
END:VEVENT
END:VCALENDAR