BEGIN:VCALENDAR
VERSION:2.0
PRODID:-//jEvents 2.0 for Joomla//EN
CALSCALE:GREGORIAN
METHOD:PUBLISH
BEGIN:VEVENT
UID:9ba25b79571ab4c488bb1324850d2511
CATEGORIES:Ham Radio Events
CREATED:20230702T003023
SUMMARY:10GHz & Up Contest - Leg 1
DESCRIPTION:<p><a href="http://www.arrl.org/10-ghz-up" target="_blank" rel="noopener">h
 ttp://www.arrl.org/10-ghz-up</a></p>
DTSTAMP:20260421T002022
DTSTART;TZID=America/Phoenix:20230819T130000
DTEND;TZID=America/Phoenix:20230821T065900
SEQUENCE:0
TRANSP:OPAQUE
END:VEVENT
END:VCALENDAR