BEGIN:VCALENDAR
VERSION:2.0
PRODID:-//jEvents 2.0 for Joomla//EN
CALSCALE:GREGORIAN
METHOD:PUBLISH
BEGIN:VEVENT
UID:f10cb0b32b3cb9495a0b519fc1ce2922
CATEGORIES:Ham Radio Events
CREATED:20230702T021915
SUMMARY:ARRL Rookie Roundup - RTTY
DESCRIPTION:<p>http://www.arrl.org/rookie-roundup</p><p> </p><p> </p>
DTSTAMP:20260421T002023
DTSTART;TZID=America/Phoenix:20230820T180000
DTEND;TZID=America/Phoenix:20230820T235900
SEQUENCE:0
TRANSP:OPAQUE
END:VEVENT
END:VCALENDAR